BEGIN:VCALENDAR
VERSION:2.0
PRODID:-//Ontario Association of General Surgeons - ECPv6.15.18//NONSGML v1.0//EN
CALSCALE:GREGORIAN
METHOD:PUBLISH
X-ORIGINAL-URL:https://oags.org
X-WR-CALDESC:Events for Ontario Association of General Surgeons
REFRESH-INTERVAL;VALUE=DURATION:PT1H
X-Robots-Tag:noindex
X-PUBLISHED-TTL:PT1H
BEGIN:VTIMEZONE
TZID:America/Toronto
BEGIN:DAYLIGHT
TZOFFSETFROM:-0500
TZOFFSETTO:-0400
TZNAME:EDT
DTSTART:20250309T070000
END:DAYLIGHT
BEGIN:STANDARD
TZOFFSETFROM:-0400
TZOFFSETTO:-0500
TZNAME:EST
DTSTART:20251102T060000
END:STANDARD
BEGIN:DAYLIGHT
TZOFFSETFROM:-0500
TZOFFSETTO:-0400
TZNAME:EDT
DTSTART:20260308T070000
END:DAYLIGHT
BEGIN:STANDARD
TZOFFSETFROM:-0400
TZOFFSETTO:-0500
TZNAME:EST
DTSTART:20261101T060000
END:STANDARD
BEGIN:DAYLIGHT
TZOFFSETFROM:-0500
TZOFFSETTO:-0400
TZNAME:EDT
DTSTART:20270314T070000
END:DAYLIGHT
BEGIN:STANDARD
TZOFFSETFROM:-0400
TZOFFSETTO:-0500
TZNAME:EST
DTSTART:20271107T060000
END:STANDARD
END:VTIMEZONE
BEGIN:VEVENT
DTSTART;VALUE=DATE:20260615
DTEND;VALUE=DATE:20260620
DTSTAMP:20260425T120557
CREATED:20251209T194919Z
LAST-MODIFIED:20251209T194919Z
UID:3343-1781481600-1781913599@oags.org
SUMMARY:Canada General Surgery Review
DESCRIPTION:
URL:https://oags.org/event/canada-general-surgery-review/
LOCATION:Virtual\, Ontario\, Canada
ORGANIZER;CN="Bruns Consulting Services Ltd.":MAILTO:adm@generalsurgeryreview.ca
END:VEVENT
BEGIN:VEVENT
DTSTART;VALUE=DATE:20260916
DTEND;VALUE=DATE:20260920
DTSTAMP:20260425T120557
CREATED:20251209T194329Z
LAST-MODIFIED:20251209T194329Z
UID:3338-1789516800-1789862399@oags.org
SUMMARY:Canada Surgery Forum
DESCRIPTION:
URL:https://oags.org/event/canada-surgery-forum/
LOCATION:Halifax Convention Centre\, 1650 Argyle St\, Halifax\, Nova Scotia\, Canada
ORGANIZER;CN="CAGS":MAILTO:marbella@cags-accg.ca
END:VEVENT
BEGIN:VEVENT
DTSTART;VALUE=DATE:20261107
DTEND;VALUE=DATE:20261108
DTSTAMP:20260425T120557
CREATED:20260327T214025Z
LAST-MODIFIED:20260327T214025Z
UID:3561-1794009600-1794095999@oags.org
SUMMARY:2026 OAGS Surgical Symposium 1
DESCRIPTION:
URL:https://oags.org/event/2026-oags-surgical-symposium-1/
LOCATION:Hilton Toronto\, 145 Richmond St. W.\, Toronto\, Ontario\, Canada
ORGANIZER;CN="Ontario Association of General Surgeons":MAILTO:info@oags.org
END:VEVENT
END:VCALENDAR