BEGIN:VCALENDAR
VERSION:2.0
PRODID:-//Ontario Association of General Surgeons - ECPv6.15.18//NONSGML v1.0//EN
CALSCALE:GREGORIAN
METHOD:PUBLISH
X-WR-CALNAME:Ontario Association of General Surgeons
X-ORIGINAL-URL:https://oags.org
X-WR-CALDESC:Events for Ontario Association of General Surgeons
REFRESH-INTERVAL;VALUE=DURATION:PT1H
X-Robots-Tag:noindex
X-PUBLISHED-TTL:PT1H
BEGIN:VTIMEZONE
TZID:America/Toronto
BEGIN:DAYLIGHT
TZOFFSETFROM:-0500
TZOFFSETTO:-0400
TZNAME:EDT
DTSTART:20240310T070000
END:DAYLIGHT
BEGIN:STANDARD
TZOFFSETFROM:-0400
TZOFFSETTO:-0500
TZNAME:EST
DTSTART:20241103T060000
END:STANDARD
BEGIN:DAYLIGHT
TZOFFSETFROM:-0500
TZOFFSETTO:-0400
TZNAME:EDT
DTSTART:20250309T070000
END:DAYLIGHT
BEGIN:STANDARD
TZOFFSETFROM:-0400
TZOFFSETTO:-0500
TZNAME:EST
DTSTART:20251102T060000
END:STANDARD
BEGIN:DAYLIGHT
TZOFFSETFROM:-0500
TZOFFSETTO:-0400
TZNAME:EDT
DTSTART:20260308T070000
END:DAYLIGHT
BEGIN:STANDARD
TZOFFSETFROM:-0400
TZOFFSETTO:-0500
TZNAME:EST
DTSTART:20261101T060000
END:STANDARD
END:VTIMEZONE
BEGIN:VEVENT
DTSTART;VALUE=DATE:20250510
DTEND;VALUE=DATE:20250511
DTSTAMP:20260419T201827
CREATED:20250205T155149Z
LAST-MODIFIED:20250205T155149Z
UID:2400-1746835200-1746921599@oags.org
SUMMARY:Toronto Breast Imaging Conference
DESCRIPTION:Explore the latest frontiers in breast cancer detection and diagnosis at this dynamic conference\, focused on the cutting-edge imaging modalities of Breast Magnetic Resonance Imaging (MRI)\, Digital Breast Tomosynthesis (DBT)\, and Contrast-Enhanced Mammography (CEM). As the field of breast imaging continues to evolve\, these technologies are playing an increasingly crucial role in early detection\, accurate diagnosis\, and personalized patient care. This event brings together leading experts\, radiologists\, oncologists\, researchers\, and technologists to examine the strengths\, clinical applications\, and future potential of these powerful imaging tools. \nLearning Objectives for the Conference:\nBy the end of this conference\, attendees will be able to: \n\nUnderstand the Technical Aspects of Breast MRI\, DBT\, and CEM\nApply Breast MRI in High-Risk Populations and Complex Cases\nIntegrate Contrast-Enhanced Mammography into Clinical Practice\nCombine Breast MRI\, DBT\, and CEM for Comprehensive Imaging\nAnalyze the Impact of Artificial Intelligence in Breast Imaging
URL:https://oags.org/event/toronto-breast-imaging-conference/
LOCATION:King Edward Hotel\, 37 King St E\, Toronto\, Ontario\, Canada
CATEGORIES:CPD
ORGANIZER;CN="UofT CPD":MAILTO:facmed.registration@utoronto.ca
END:VEVENT
END:VCALENDAR