BEGIN:VCALENDAR
VERSION:2.0
PRODID:-//Ontario Association of General Surgeons - ECPv6.15.18//NONSGML v1.0//EN
CALSCALE:GREGORIAN
METHOD:PUBLISH
X-WR-CALNAME:Ontario Association of General Surgeons
X-ORIGINAL-URL:https://oags.org
X-WR-CALDESC:Events for Ontario Association of General Surgeons
REFRESH-INTERVAL;VALUE=DURATION:PT1H
X-Robots-Tag:noindex
X-PUBLISHED-TTL:PT1H
BEGIN:VTIMEZONE
TZID:America/Toronto
BEGIN:DAYLIGHT
TZOFFSETFROM:-0500
TZOFFSETTO:-0400
TZNAME:EDT
DTSTART:20240310T070000
END:DAYLIGHT
BEGIN:STANDARD
TZOFFSETFROM:-0400
TZOFFSETTO:-0500
TZNAME:EST
DTSTART:20241103T060000
END:STANDARD
BEGIN:DAYLIGHT
TZOFFSETFROM:-0500
TZOFFSETTO:-0400
TZNAME:EDT
DTSTART:20250309T070000
END:DAYLIGHT
BEGIN:STANDARD
TZOFFSETFROM:-0400
TZOFFSETTO:-0500
TZNAME:EST
DTSTART:20251102T060000
END:STANDARD
BEGIN:DAYLIGHT
TZOFFSETFROM:-0500
TZOFFSETTO:-0400
TZNAME:EDT
DTSTART:20260308T070000
END:DAYLIGHT
BEGIN:STANDARD
TZOFFSETFROM:-0400
TZOFFSETTO:-0500
TZNAME:EST
DTSTART:20261101T060000
END:STANDARD
END:VTIMEZONE
BEGIN:VEVENT
DTSTART;VALUE=DATE:20250410
DTEND;VALUE=DATE:20250412
DTSTAMP:20260419T232724
CREATED:20250328T175204Z
LAST-MODIFIED:20250328T175415Z
UID:2577-1744243200-1744415999@oags.org
SUMMARY:Toronto Breast and Aesthetic Plastic Surgery Symposium
DESCRIPTION:Toronto Breast and Aesthetic Plastic Surgery Symposium\nInnovations in the Art and Science of Plastic Surgery\nPeter Gilgan Centre for Research and Learning \nApril 10-11\, 2025 \nLearn about the latest surgical and non-surgical advances in breast surgery and aesthetic plastic surgery at this interactive 2-day conference. \nWorld-renowned experts share emergent techniques\, procedures\, and innovations through a combination of interactive sessions\, video presentations\, and lively panel discussions. Presentations go below the surface by delving into key findings and comprehensive applications. \nPatient selection\, surgical and non-surgical techniques\, results and outcomes\, and patient safety will be emphasized throughout conference sessions. Topics include body contouring\, breast reconstruction surgery\, primary and revision breast surgery\, and facial aesthetics\, among other focuses. \nTarget Audience\nPlastic surgeons\, reconstructive surgeons\, trainees\, and clinic team members in plastic and reconstructive surgery.
URL:https://oags.org/event/toronto-breast-and-aesthetic-plastic-surgery-symposium/
LOCATION:Toronto Sick Kids\, 686 Bay Street\, Toronto\, Ontario\, Canada
CATEGORIES:CPD
ORGANIZER;CN="UofT CPD":MAILTO:facmed.registration@utoronto.ca
END:VEVENT
END:VCALENDAR