BEGIN:VCALENDAR
VERSION:2.0
PRODID:-//Ontario Association of General Surgeons - ECPv6.15.18//NONSGML v1.0//EN
CALSCALE:GREGORIAN
METHOD:PUBLISH
X-ORIGINAL-URL:https://oags.org
X-WR-CALDESC:Events for Ontario Association of General Surgeons
REFRESH-INTERVAL;VALUE=DURATION:PT1H
X-Robots-Tag:noindex
X-PUBLISHED-TTL:PT1H
BEGIN:VTIMEZONE
TZID:America/Toronto
BEGIN:DAYLIGHT
TZOFFSETFROM:-0500
TZOFFSETTO:-0400
TZNAME:EDT
DTSTART:20240310T070000
END:DAYLIGHT
BEGIN:STANDARD
TZOFFSETFROM:-0400
TZOFFSETTO:-0500
TZNAME:EST
DTSTART:20241103T060000
END:STANDARD
BEGIN:DAYLIGHT
TZOFFSETFROM:-0500
TZOFFSETTO:-0400
TZNAME:EDT
DTSTART:20250309T070000
END:DAYLIGHT
BEGIN:STANDARD
TZOFFSETFROM:-0400
TZOFFSETTO:-0500
TZNAME:EST
DTSTART:20251102T060000
END:STANDARD
BEGIN:DAYLIGHT
TZOFFSETFROM:-0500
TZOFFSETTO:-0400
TZNAME:EDT
DTSTART:20260308T070000
END:DAYLIGHT
BEGIN:STANDARD
TZOFFSETFROM:-0400
TZOFFSETTO:-0500
TZNAME:EST
DTSTART:20261101T060000
END:STANDARD
END:VTIMEZONE
BEGIN:VEVENT
DTSTART;VALUE=DATE:20251128
DTEND;VALUE=DATE:20251130
DTSTAMP:20260419T132623
CREATED:20250630T142319Z
LAST-MODIFIED:20250630T142653Z
UID:2965-1764288000-1764460799@oags.org
SUMMARY:Breast Cancer Survivorship and Supportive Care International Conference
DESCRIPTION:Breast Cancer Survivorship and Supportive Care International Conference\nNovember 28 – 29\, 2025 | Toronto\, Canada\nWebsite: https://breast-survivorship-conference.ca/ \nGain the latest knowledge and skills to enhance support for breast cancer survivors throughout the continuum of care from diagnosis to balance of life. \nTaking a holistic approach\, interactive sessions and multidisciplinary panels will highlight precision oncology\, side effects of emerging treatments\, how to manage post-surgical functional impairments\, opportunities for AI and digital health\, and so much more. Save with early bird registration until October 23\, 2025. \nYou can also hear from Dr. Muna Al-Khaifi in this special video message: https://www.youtube.com/watch?v=7RTaOrrZ9D0 \nJoin us and explore how to implement sustainable models of survivorship care. Translate evidence-based recommendations into practice to support better patient outcomes. \nTarget Audience:\nBreast medical\, surgical\, and radiation oncologists\nPrimary care providers\nNurses and nurse practitioners\nSocial workers\nPsychologists\nOccupational therapists\nPsychotherapists\nPharmacists\nMedical trainees\nUndergraduate students
URL:https://oags.org/event/breast-cancer-survivorship-and-supportive-care-international-conference/
LOCATION:Westin Harbour Castle\, 1 Harbour Square\, Toronto\, Ontario\, Canada
CATEGORIES:CPD,General Surgeons
ORGANIZER;CN="UofT CPD":MAILTO:facmed.registration@utoronto.ca
END:VEVENT
BEGIN:VEVENT
DTSTART;TZID=America/Toronto:20251128T080000
DTEND;TZID=America/Toronto:20251129T170000
DTSTAMP:20260419T132623
CREATED:20250910T015907Z
LAST-MODIFIED:20250910T015907Z
UID:3118-1764316800-1764435600@oags.org
SUMMARY:1st International Breast Cancer Survivorship and Supportive Care Conference
DESCRIPTION:This inaugural conference will focus on clinical advancements related to all aspects of breast cancer survivorship and supportive care through a comprehensive\, evidence-based framework. As a health professional\, you’ll learn about the latest knowledge and skills in order to enhance support for breast cancer survivors throughout the continuum of care from diagnosis to balance of life. \nJoin us and explore how to implement sustainable models of survivorship care. Translate evidence-based recommendations into practice to support better patient outcomes. \nTarget Audience \n\nBreast medical\, surgical\, and radiation oncologists\nPrimary care providers\nNurses and nurse practitioners\nSocial workers\nPsychologists\nOccupational therapists\nPsychotherapists\nPharmacists\nMedical trainees\nUndergraduate students
URL:https://oags.org/event/1st-international-breast-cancer-survivorship-and-supportive-care-conference/
LOCATION:The Westin Harbour Castle\, Toronto\, Ontario\, Canada
CATEGORIES:breast,CPD,General Surgeons
ORGANIZER;CN="UofT CPD":MAILTO:facmed.registration@utoronto.ca
END:VEVENT
END:VCALENDAR