BEGIN:VCALENDAR
VERSION:2.0
PRODID:-//Ontario Association of General Surgeons - ECPv6.15.18//NONSGML v1.0//EN
CALSCALE:GREGORIAN
METHOD:PUBLISH
X-ORIGINAL-URL:https://oags.org
X-WR-CALDESC:Events for Ontario Association of General Surgeons
REFRESH-INTERVAL;VALUE=DURATION:PT1H
X-Robots-Tag:noindex
X-PUBLISHED-TTL:PT1H
BEGIN:VTIMEZONE
TZID:America/Toronto
BEGIN:DAYLIGHT
TZOFFSETFROM:-0500
TZOFFSETTO:-0400
TZNAME:EDT
DTSTART:20240310T070000
END:DAYLIGHT
BEGIN:STANDARD
TZOFFSETFROM:-0400
TZOFFSETTO:-0500
TZNAME:EST
DTSTART:20241103T060000
END:STANDARD
BEGIN:DAYLIGHT
TZOFFSETFROM:-0500
TZOFFSETTO:-0400
TZNAME:EDT
DTSTART:20250309T070000
END:DAYLIGHT
BEGIN:STANDARD
TZOFFSETFROM:-0400
TZOFFSETTO:-0500
TZNAME:EST
DTSTART:20251102T060000
END:STANDARD
BEGIN:DAYLIGHT
TZOFFSETFROM:-0500
TZOFFSETTO:-0400
TZNAME:EDT
DTSTART:20260308T070000
END:DAYLIGHT
BEGIN:STANDARD
TZOFFSETFROM:-0400
TZOFFSETTO:-0500
TZNAME:EST
DTSTART:20261101T060000
END:STANDARD
END:VTIMEZONE
BEGIN:VEVENT
DTSTART;VALUE=DATE:20250228
DTEND;VALUE=DATE:20250301
DTSTAMP:20260420T233514
CREATED:20250114T214629Z
LAST-MODIFIED:20250115T201741Z
UID:2012-1740700800-1740787199@oags.org
SUMMARY:Multidisciplinary Annual Gastrointestinal Cancer (MAGIC) Update
DESCRIPTION:Multidisciplinary Annual Gastrointestinal Cancer (MAGIC) Update \nDiscover the latest breakthroughs in GI cancer management\, incorporating fresh data and evidence-based practices into patient care. \nEngage in dynamic multidisciplinary discussions\, fostering collaboration among medical oncologists\, surgeons\, radiation oncologists\, gastroenterologists\, oncology nurses\, passionate trainees and pharmacists interested in GI oncology. \nElevate your practice\, enhance patient outcomes\, and join experts in the field to shape the future of GI cancer treatment. \nTarget Audience\n\nMedical Oncologists\nSurgeons\nRadiation Oncologists\nGastroenterologists\nOncology Nurses\nTrainees and Pharmacists with an interest in GI Oncology
URL:https://oags.org/event/multidisciplinary-annual-gastrointestinal-cancer-magic-update/
LOCATION:Pan Pacific Toronto\, 900 York Mills Rd\, North York\, Ontario\, Canada
CATEGORIES:CPD
ORGANIZER;CN="UofT CPD":MAILTO:facmed.registration@utoronto.ca
END:VEVENT
END:VCALENDAR