BEGIN:VCALENDAR
VERSION:2.0
PRODID:-//Ontario Association of General Surgeons - ECPv6.15.18//NONSGML v1.0//EN
CALSCALE:GREGORIAN
METHOD:PUBLISH
X-WR-CALNAME:Ontario Association of General Surgeons
X-ORIGINAL-URL:https://oags.org
X-WR-CALDESC:Events for Ontario Association of General Surgeons
REFRESH-INTERVAL;VALUE=DURATION:PT1H
X-Robots-Tag:noindex
X-PUBLISHED-TTL:PT1H
BEGIN:VTIMEZONE
TZID:America/Toronto
BEGIN:DAYLIGHT
TZOFFSETFROM:-0500
TZOFFSETTO:-0400
TZNAME:EDT
DTSTART:20240310T070000
END:DAYLIGHT
BEGIN:STANDARD
TZOFFSETFROM:-0400
TZOFFSETTO:-0500
TZNAME:EST
DTSTART:20241103T060000
END:STANDARD
BEGIN:DAYLIGHT
TZOFFSETFROM:-0500
TZOFFSETTO:-0400
TZNAME:EDT
DTSTART:20250309T070000
END:DAYLIGHT
BEGIN:STANDARD
TZOFFSETFROM:-0400
TZOFFSETTO:-0500
TZNAME:EST
DTSTART:20251102T060000
END:STANDARD
BEGIN:DAYLIGHT
TZOFFSETFROM:-0500
TZOFFSETTO:-0400
TZNAME:EDT
DTSTART:20260308T070000
END:DAYLIGHT
BEGIN:STANDARD
TZOFFSETFROM:-0400
TZOFFSETTO:-0500
TZNAME:EST
DTSTART:20261101T060000
END:STANDARD
END:VTIMEZONE
BEGIN:VEVENT
DTSTART;VALUE=DATE:20250926
DTEND;VALUE=DATE:20250928
DTSTAMP:20260421T153900
CREATED:20250606T040314Z
LAST-MODIFIED:20250801T182745Z
UID:2898-1758844800-1759017599@oags.org
SUMMARY:Great Lakes IBD Forum 2025
DESCRIPTION:Join us in person for Great Lakes IBD Forum 2025!\n• The program will focus on IBD management and a review of the latest science and current trends with a truly impressive world-class faculty\n• This highly interactive and popular event will feature real-world cases\, with ample opportunity for audience participation and small group discussion\n• The faculty will consist of leading Canadian and international IBD experts \nProgram: download \nPlease direct logistics questions to Taylor Pogue at Fusion MD\ntpogue@fusionmdnetwork.com 438-998-1840.
URL:https://oags.org/event/great-lakes-ibd-forum-2025/
LOCATION:Queen’s Landing Hotel\, 155 Byron St\, Niagara on the Lake\, Ontario\, L0S 1J0\, Canada
CATEGORIES:CPD,General Surgeons
END:VEVENT
END:VCALENDAR