BEGIN:VCALENDAR
VERSION:2.0
PRODID:-//Ontario Association of General Surgeons - ECPv6.15.18//NONSGML v1.0//EN
CALSCALE:GREGORIAN
METHOD:PUBLISH
X-ORIGINAL-URL:https://oags.org
X-WR-CALDESC:Events for Ontario Association of General Surgeons
REFRESH-INTERVAL;VALUE=DURATION:PT1H
X-Robots-Tag:noindex
X-PUBLISHED-TTL:PT1H
BEGIN:VTIMEZONE
TZID:America/Toronto
BEGIN:DAYLIGHT
TZOFFSETFROM:-0500
TZOFFSETTO:-0400
TZNAME:EDT
DTSTART:20240310T070000
END:DAYLIGHT
BEGIN:STANDARD
TZOFFSETFROM:-0400
TZOFFSETTO:-0500
TZNAME:EST
DTSTART:20241103T060000
END:STANDARD
BEGIN:DAYLIGHT
TZOFFSETFROM:-0500
TZOFFSETTO:-0400
TZNAME:EDT
DTSTART:20250309T070000
END:DAYLIGHT
BEGIN:STANDARD
TZOFFSETFROM:-0400
TZOFFSETTO:-0500
TZNAME:EST
DTSTART:20251102T060000
END:STANDARD
BEGIN:DAYLIGHT
TZOFFSETFROM:-0500
TZOFFSETTO:-0400
TZNAME:EDT
DTSTART:20260308T070000
END:DAYLIGHT
BEGIN:STANDARD
TZOFFSETFROM:-0400
TZOFFSETTO:-0500
TZNAME:EST
DTSTART:20261101T060000
END:STANDARD
END:VTIMEZONE
BEGIN:VEVENT
DTSTART;VALUE=DATE:20251015
DTEND;VALUE=DATE:20251018
DTSTAMP:20260421T154806
CREATED:20250528T180916Z
LAST-MODIFIED:20250528T183445Z
UID:2886-1760486400-1760745599@oags.org
SUMMARY:36th International Course on Therapeutic Endoscopy
DESCRIPTION:St. Michael’s\, Unity Health\, Scope Canada
URL:https://oags.org/event/36th-international-course-on-therapeutic-endoscopy/
LOCATION:Li Ka Shing Knowledge Institute\, 209 Victoria St.\, Toronto\, Ontario\, Canada
END:VEVENT
END:VCALENDAR