BEGIN:VCALENDAR
VERSION:2.0
PRODID:-//Ontario Association of General Surgeons - ECPv6.15.18//NONSGML v1.0//EN
CALSCALE:GREGORIAN
METHOD:PUBLISH
X-WR-CALNAME:Ontario Association of General Surgeons
X-ORIGINAL-URL:https://oags.org
X-WR-CALDESC:Events for Ontario Association of General Surgeons
REFRESH-INTERVAL;VALUE=DURATION:PT1H
X-Robots-Tag:noindex
X-PUBLISHED-TTL:PT1H
BEGIN:VTIMEZONE
TZID:America/Toronto
BEGIN:DAYLIGHT
TZOFFSETFROM:-0500
TZOFFSETTO:-0400
TZNAME:EDT
DTSTART:20240310T070000
END:DAYLIGHT
BEGIN:STANDARD
TZOFFSETFROM:-0400
TZOFFSETTO:-0500
TZNAME:EST
DTSTART:20241103T060000
END:STANDARD
BEGIN:DAYLIGHT
TZOFFSETFROM:-0500
TZOFFSETTO:-0400
TZNAME:EDT
DTSTART:20250309T070000
END:DAYLIGHT
BEGIN:STANDARD
TZOFFSETFROM:-0400
TZOFFSETTO:-0500
TZNAME:EST
DTSTART:20251102T060000
END:STANDARD
BEGIN:DAYLIGHT
TZOFFSETFROM:-0500
TZOFFSETTO:-0400
TZNAME:EDT
DTSTART:20260308T070000
END:DAYLIGHT
BEGIN:STANDARD
TZOFFSETFROM:-0400
TZOFFSETTO:-0500
TZNAME:EST
DTSTART:20261101T060000
END:STANDARD
END:VTIMEZONE
BEGIN:VEVENT
DTSTART;TZID=America/Toronto:20250326T180000
DTEND;TZID=America/Toronto:20250618T200000
DTSTAMP:20260419T234010
CREATED:20250319T211122Z
LAST-MODIFIED:20250319T211122Z
UID:2551-1743012000-1750276800@oags.org
SUMMARY:UofT CPD Leadership & Communication
DESCRIPTION:Each of the 10 sessions that comprise this certificate program will focus on a different element of effective professional communication. Designed to be highly interactive\, the sessions combine live instruction\, small group breakout activities\, and Q&A. \nIn addition to each session\, participants will complete assignments in a provided workbook. This includes group pre-work exercises\, as well as individual post-work reflections and quizzes to reinforce learning. \nSessions will take place online Wednesdays from 6:00 – 8:00 pm ET. \nNote that Session 9 on Wednesday\, June 11\, 2025\, will take place in a hybrid format. This live\, truly hybrid Strategic Networking session will be in-person for those able to attend in Toronto\, and online for those joining from afar. We will learn about the principles of strategic networking and\, whether in person or online\, everyone will have the opportunity to practice introducing themselves\, to share networking opportunities\, and to participate in the open Q&A. \nRoyal College of Physicians and Surgeons of Canada – Section 1\nThis event is an Accredited Group Learning Activity (Section 1) as defined by the Maintenance of Certification Program of the Royal College of Physicians and Surgeons of Canada\, approved by Continuing Professional Development\, Temerty Faculty of Medicine\, University of Toronto. You may claim a maximum of 20.0 hours (credits are automatically calculated).
URL:https://oags.org/event/uoft-cpd-leadership-communication/
LOCATION:Virtual\, Ontario\, Canada
CATEGORIES:CPD,Leadership
ORGANIZER;CN="UofT CPD":MAILTO:facmed.registration@utoronto.ca
END:VEVENT
END:VCALENDAR